BEGIN:VCALENDAR
VERSION:2.0
PRODID:-//ETFO Algoma Occasional Teacher Local - ECPv6.15.20//NONSGML v1.0//EN
CALSCALE:GREGORIAN
METHOD:PUBLISH
X-WR-CALNAME:ETFO Algoma Occasional Teacher Local
X-ORIGINAL-URL:https://aotl.ca
X-WR-CALDESC:Events for ETFO Algoma Occasional Teacher Local
REFRESH-INTERVAL;VALUE=DURATION:PT1H
X-Robots-Tag:noindex
X-PUBLISHED-TTL:PT1H
BEGIN:VTIMEZONE
TZID:America/Toronto
BEGIN:DAYLIGHT
TZOFFSETFROM:-0500
TZOFFSETTO:-0400
TZNAME:EDT
DTSTART:20250309T070000
END:DAYLIGHT
BEGIN:STANDARD
TZOFFSETFROM:-0400
TZOFFSETTO:-0500
TZNAME:EST
DTSTART:20251102T060000
END:STANDARD
BEGIN:DAYLIGHT
TZOFFSETFROM:-0500
TZOFFSETTO:-0400
TZNAME:EDT
DTSTART:20260308T070000
END:DAYLIGHT
BEGIN:STANDARD
TZOFFSETFROM:-0400
TZOFFSETTO:-0500
TZNAME:EST
DTSTART:20261101T060000
END:STANDARD
BEGIN:DAYLIGHT
TZOFFSETFROM:-0500
TZOFFSETTO:-0400
TZNAME:EDT
DTSTART:20270314T070000
END:DAYLIGHT
BEGIN:STANDARD
TZOFFSETFROM:-0400
TZOFFSETTO:-0500
TZNAME:EST
DTSTART:20271107T060000
END:STANDARD
END:VTIMEZONE
BEGIN:VEVENT
DTSTART;TZID=America/Toronto:20260530T083000
DTEND;TZID=America/Toronto:20260530T103000
DTSTAMP:20260423T044621
CREATED:20260226T160806Z
LAST-MODIFIED:20260421T164908Z
UID:7237-1780129800-1780137000@aotl.ca
SUMMARY:Spring Annual Meeting
DESCRIPTION:Constitution Amendments\nProposed constitutional amendments must be submitted to the Local office no later than the end of day on Thursday\, April 30.  The AOTL constitution can be found here.
URL:https://aotl.ca/event/spring-annual-meeting-2/
LOCATION:Delta Waterfront Hotel\, 208 St. Mary's River Dr\, Sault Ste. Marie\, ON\, P6A 5V4\, Canada
CATEGORIES:General Meeting
ATTACH;FMTTYPE=image/png:https://aotl.ca/wp-content/uploads/Spring-Annual-Meeting-2026.png
ORGANIZER;CN="ETFO Algoma Occasional Teacher Local":MAILTO:info@aotl.ca
END:VEVENT
END:VCALENDAR